BEGIN:VCALENDAR
METHOD:PUBLISH
PRODID:-//github.com/rianjs/ical.net//NONSGML ical.net 4.0//EN
VERSION:2.0
X-WR-CALNAME:Maple Hills Elementary PTA
BEGIN:VEVENT
CREATED:20240801T095139
DESCRIPTION:Sign up here: https://www.signupgenius.com/go/10C0544AEA722A6F
 B6-50644986-artwalk
DTEND:20250510T030000Z
DTSTAMP:20260424T081748Z
DTSTART:20250510T003000Z
LAST-MODIFIED:20240811T084832
LOCATION:Maple Hills Elementary MPR
SEQUENCE:0
STATUS:CONFIRMED
SUMMARY:PTA: Art Walk
TRANSP:TRANSPARENT
UID:137873@ourschoolpages.com
END:VEVENT
END:VCALENDAR
